BEGIN:VCALENDAR
VERSION:2.0
PRODID:-//Carlton Kogarah Baptist Church |  Connecting People With Jesus - ECPv6.6.3//NONSGML v1.0//EN
CALSCALE:GREGORIAN
METHOD:PUBLISH
X-ORIGINAL-URL:https://www.ckbc.org.au
X-WR-CALDESC:Events for Carlton Kogarah Baptist Church |  Connecting People With Jesus
REFRESH-INTERVAL;VALUE=DURATION:PT1H
X-Robots-Tag:noindex
X-PUBLISHED-TTL:PT1H
BEGIN:VTIMEZONE
TZID:UTC
BEGIN:STANDARD
TZOFFSETFROM:+0000
TZOFFSETTO:+0000
TZNAME:UTC
DTSTART:20250101T000000
END:STANDARD
END:VTIMEZONE
BEGIN:VEVENT
DTSTART;TZID=UTC:20251225T093000
DTEND;TZID=UTC:20251225T103000
DTSTAMP:20260422T215103
CREATED:20251108T095556Z
LAST-MODIFIED:20251108T095805Z
UID:1910-1766655000-1766658600@www.ckbc.org.au
SUMMARY:Christmas Morning Service
DESCRIPTION:Carlton Kogarah Baptist Church Christmas Service \nJoin us as we celebrate the joy and hope of Christmas!Our Christmas Service is a special time for our church family and community to come together in worship\, reflection\, and celebration of the birth of Jesus Christ. \nWhat to Expect: \n\nUplifting Christmas carols and music\nAn inspiring Christmas message\nA welcoming\, family-friendly atmosphere\n\nDate: 25/12/2025Time: 9:30am – 10:30amLocation: Carlton Kogarah Baptist Church63 Willison Road\, Carlton NSW \nCome and experience the true meaning of Christmas — the love\, peace\, and joy that Jesus brings. Everyone is welcome!
URL:https://www.ckbc.org.au/event/christmas-morning-service/
LOCATION:Carlton Kogarah Baptist Church\, 63 Willison Road\, Carlton\, New South Wales\, 2218\, Australia
END:VEVENT
END:VCALENDAR