BEGIN:VCALENDAR
VERSION:2.0
PRODID:-//Carlton Kogarah Baptist Church |  Connecting People With Jesus - ECPv6.6.3//NONSGML v1.0//EN
CALSCALE:GREGORIAN
METHOD:PUBLISH
X-WR-CALNAME:Carlton Kogarah Baptist Church |  Connecting People With Jesus
X-ORIGINAL-URL:https://www.ckbc.org.au
X-WR-CALDESC:Events for Carlton Kogarah Baptist Church |  Connecting People With Jesus
REFRESH-INTERVAL;VALUE=DURATION:PT1H
X-Robots-Tag:noindex
X-PUBLISHED-TTL:PT1H
BEGIN:VTIMEZONE
TZID:UTC
BEGIN:STANDARD
TZOFFSETFROM:+0000
TZOFFSETTO:+0000
TZNAME:UTC
DTSTART:20250101T000000
END:STANDARD
END:VTIMEZONE
BEGIN:VEVENT
DTSTART;TZID=UTC:20251221T190000
DTEND;TZID=UTC:20251221T210000
DTSTAMP:20260421T225911
CREATED:20251108T095015Z
LAST-MODIFIED:20251108T101156Z
UID:1905-1766343600-1766350800@www.ckbc.org.au
SUMMARY:Christmas Carol Evening
DESCRIPTION:Join us for an unforgettable evening filled with joy\, music\, and community spirit as we celebrate Christmas together! \nDate & Time:\nWhen: 7:00 PM\, Sunday\, December 21st\nWhere: 63 Willison Road\, Carlton 2218 \nEvent Highlights: \nCarols Service: Experience the beauty of Christmas music with special carol performances by the talented CKBC Worship Team. Feel the spirit of the season through uplifting songs and joyful worship. \nContact:\nFor any questions or to let us know you’re coming\, please reach out to hello@ckbc.org.au. \nCome join us at CKBC Carlton Kogarah CONNECTING Baptist Church for a wonderful evening of worship\, food\, and holiday cheer. Bring your friends and family as we connect and celebrate the joy of Christmas together. We can’t wait to see you there!
URL:https://www.ckbc.org.au/event/christmas-carol-evening/
LOCATION:Carlton Kogarah Baptist Church\, 63 Willison Road\, Carlton\, New South Wales\, 2218\, Australia
END:VEVENT
END:VCALENDAR